BEGIN:VCALENDAR
VERSION:2.0
PRODID:icalendar-ruby
CALSCALE:GREGORIAN
METHOD:PUBLISH
BEGIN:VEVENT
DTSTAMP:20260425T225850Z
UID:b6403cf5-f555-489b-8b5e-db8ef4f54e62
DTSTART;VALUE=DATE:20140613
DTEND;VALUE=DATE:20140613
DESCRIPTION:Tucson BMX
LOCATION:9245 E Irvington  Tucson AZ 85730 USA
SUMMARY:Race for Life Double
URL:/site/bmx_races/75338
END:VEVENT
END:VCALENDAR
