BEGIN:VCALENDAR
VERSION:2.0
PRODID:icalendar-ruby
CALSCALE:GREGORIAN
METHOD:PUBLISH
BEGIN:VEVENT
DTSTAMP:20260425T125537Z
UID:ad74df78-27b1-4e3e-b88d-3152702c5e8c
DTSTART;VALUE=DATE:20140810
DTEND;VALUE=DATE:20140810
DESCRIPTION:Rusty Bowl BMX
LOCATION:1281 E Gobbi St  Ukiah CA 95482 USA
SUMMARY:Local Race Single
URL:/site/bmx_races/74546
END:VEVENT
END:VCALENDAR
