BEGIN:VCALENDAR
VERSION:2.0
PRODID:icalendar-ruby
CALSCALE:GREGORIAN
METHOD:PUBLISH
BEGIN:VEVENT
DTSTAMP:20260424T234137Z
UID:49a5a10b-e0d2-4bb3-bcaa-779179fe9385
DTSTART;VALUE=DATE:20140713
DTEND;VALUE=DATE:20140713
DESCRIPTION:Rusty Bowl BMX
LOCATION:1281 E Gobbi St  Ukiah CA 95482 USA
SUMMARY:Local Race Single
URL:/site/bmx_races/74542
END:VEVENT
END:VCALENDAR
