BEGIN:VCALENDAR
VERSION:2.0
PRODID:icalendar-ruby
CALSCALE:GREGORIAN
METHOD:PUBLISH
BEGIN:VEVENT
DTSTAMP:20260424T093647Z
UID:b8f19dcb-4b2a-4447-b83e-a0fef9f87f92
DTSTART;VALUE=DATE:20140427
DTEND;VALUE=DATE:20140427
DESCRIPTION:Sea City BMX
LOCATION:  Corpus Christi TX 78418 USA
SUMMARY:Local Race Single
URL:/site/bmx_races/73582
END:VEVENT
END:VCALENDAR
