BEGIN:VCALENDAR
VERSION:2.0
PRODID:icalendar-ruby
CALSCALE:GREGORIAN
METHOD:PUBLISH
BEGIN:VEVENT
DTSTAMP:20260424T093646Z
UID:96b84515-93b4-42ec-8fca-359d81f31afb
DTSTART;VALUE=DATE:20140209
DTEND;VALUE=DATE:20140209
DESCRIPTION:Sea City BMX
LOCATION:  Corpus Christi TX 78418 USA
SUMMARY:Local Race Single
URL:/site/bmx_races/73549
END:VEVENT
END:VCALENDAR
