BEGIN:VCALENDAR
VERSION:2.0
PRODID:icalendar-ruby
CALSCALE:GREGORIAN
METHOD:PUBLISH
BEGIN:VEVENT
DTSTAMP:20260425T155030Z
UID:86ce7aca-1fea-459f-8cf2-c1884ad27160
DTSTART;VALUE=DATE:20140830
DTEND;VALUE=DATE:20140830
DESCRIPTION:Desoto BMX
LOCATION:Grimes Park 500 E. Centre Park Blvd Desoto TX 75115 USA
SUMMARY:Local Race Single
URL:/site/bmx_races/73473
END:VEVENT
END:VCALENDAR
