BEGIN:VCALENDAR
VERSION:2.0
PRODID:icalendar-ruby
CALSCALE:GREGORIAN
METHOD:PUBLISH
BEGIN:VEVENT
DTSTAMP:20260425T035236Z
UID:c931eca5-5dd1-4650-81b2-a9eb637aabd1
DTSTART;VALUE=DATE:20140221
DTEND;VALUE=DATE:20140221
DESCRIPTION:Okeeheelee BMX
LOCATION:8145 Forest Hill Blvd  West Palm Beach FL 33413 USA
SUMMARY:Local Race Single
URL:/site/bmx_races/73166
END:VEVENT
END:VCALENDAR
