BEGIN:VCALENDAR
VERSION:2.0
PRODID:icalendar-ruby
CALSCALE:GREGORIAN
METHOD:PUBLISH
BEGIN:VEVENT
DTSTAMP:20260425T233751Z
UID:67d9887a-d01f-431a-b9d0-ac35cac3f859
DTSTART;VALUE=DATE:20140406
DTEND;VALUE=DATE:20140406
DESCRIPTION:Chandler BMX
LOCATION:298 S Mc Queen Rd  Chandler AZ 85225 USA
SUMMARY:Local Race Single
URL:/site/bmx_races/73034
END:VEVENT
END:VCALENDAR
