BEGIN:VCALENDAR
VERSION:2.0
PRODID:icalendar-ruby
CALSCALE:GREGORIAN
METHOD:PUBLISH
BEGIN:VEVENT
DTSTAMP:20260424T215418Z
UID:542ca21d-6fcc-4fce-88e5-4d29f113a36b
DTSTART;VALUE=DATE:20140528
DTEND;VALUE=DATE:20140528
DESCRIPTION:Daytona BMX
LOCATION:1670 Strickland Range Rd  Holly Hill FL 32117 USA
SUMMARY:Local Race Single
URL:/site/bmx_races/72540
END:VEVENT
END:VCALENDAR
