BEGIN:VCALENDAR
VERSION:2.0
PRODID:icalendar-ruby
CALSCALE:GREGORIAN
METHOD:PUBLISH
BEGIN:VEVENT
DTSTAMP:20260425T003834Z
UID:76020aa2-9d89-448d-aeaf-f1beba80553f
DTSTART;VALUE=DATE:20141018
DTEND;VALUE=DATE:20141018
DESCRIPTION:Daytona BMX
LOCATION:1670 Strickland Range Rd  Holly Hill FL 32117 USA
SUMMARY:Local Race Single
URL:/site/bmx_races/72509
END:VEVENT
END:VCALENDAR
