BEGIN:VCALENDAR
VERSION:2.0
PRODID:icalendar-ruby
CALSCALE:GREGORIAN
METHOD:PUBLISH
BEGIN:VEVENT
DTSTAMP:20260425T035224Z
UID:3976ec48-a700-4166-b4d7-3b4822775564
DTSTART;VALUE=DATE:20140722
DTEND;VALUE=DATE:20140722
DESCRIPTION:Tri-City BMX
LOCATION:520 Burdeck St  Schenectady NY 12306 USA
SUMMARY:Local Race Single
URL:/site/bmx_races/72050
END:VEVENT
END:VCALENDAR
