BEGIN:VCALENDAR
VERSION:2.0
PRODID:icalendar-ruby
CALSCALE:GREGORIAN
METHOD:PUBLISH
BEGIN:VEVENT
DTSTAMP:20260424T115648Z
UID:d7b72091-43ae-44f6-b446-7e66597d9615
DTSTART;VALUE=DATE:20131208
DTEND;VALUE=DATE:20131208
DESCRIPTION:Cape Cod BMX
LOCATION:65 Quaker Meetinghouse Rd   Sandwich MA 02563 USA
SUMMARY:Local Race Single
URL:/site/bmx_races/71861
END:VEVENT
END:VCALENDAR
