BEGIN:VCALENDAR
VERSION:2.0
PRODID:icalendar-ruby
CALSCALE:GREGORIAN
METHOD:PUBLISH
BEGIN:VEVENT
DTSTAMP:20260424T185850Z
UID:cff64c83-2545-46bd-acfc-7018332727b4
DTSTART;VALUE=DATE:20141208
DTEND;VALUE=DATE:20141208
DESCRIPTION:Interstate BMX
LOCATION:2600 Fairgrounds Blvd  Kingman AZ 86401 USA
SUMMARY:Local Race Single
URL:/site/bmx_races/71691
END:VEVENT
END:VCALENDAR
