BEGIN:VCALENDAR
VERSION:2.0
PRODID:icalendar-ruby
CALSCALE:GREGORIAN
METHOD:PUBLISH
BEGIN:VEVENT
DTSTAMP:20260424T165858Z
UID:984975fc-e0b7-4a94-9153-4b1b0515ef9b
DTSTART;VALUE=DATE:20141103
DTEND;VALUE=DATE:20141103
DESCRIPTION:Interstate BMX
LOCATION:2600 Fairgrounds Blvd  Kingman AZ 86401 USA
SUMMARY:Local Race Single
URL:/site/bmx_races/71686
END:VEVENT
END:VCALENDAR
