BEGIN:VCALENDAR
VERSION:2.0
PRODID:icalendar-ruby
CALSCALE:GREGORIAN
METHOD:PUBLISH
BEGIN:VEVENT
DTSTAMP:20260424T220442Z
UID:0763bb37-45ab-4ae1-b340-6240f99df10f
DTSTART;VALUE=DATE:20140808
DTEND;VALUE=DATE:20140808
DESCRIPTION:Mag Ridge BMX Park
LOCATION:344 Oldtown Crossing  Ridgeland MS 39157 USA
SUMMARY:Local Race Single
URL:/site/bmx_races/71369
END:VEVENT
END:VCALENDAR
