BEGIN:VCALENDAR
VERSION:2.0
PRODID:icalendar-ruby
CALSCALE:GREGORIAN
METHOD:PUBLISH
BEGIN:VEVENT
DTSTAMP:20260424T215450Z
UID:d3e62568-f15a-45ad-93f0-e12536d9c927
DTSTART;VALUE=DATE:20140418
DTEND;VALUE=DATE:20140418
DESCRIPTION:Mag Ridge BMX Park
LOCATION:344 Oldtown Crossing  Ridgeland MS 39157 USA
SUMMARY:Local Race Single
URL:/site/bmx_races/71337
END:VEVENT
END:VCALENDAR
