BEGIN:VCALENDAR
VERSION:2.0
PRODID:icalendar-ruby
CALSCALE:GREGORIAN
METHOD:PUBLISH
BEGIN:VEVENT
DTSTAMP:20260424T063227Z
UID:f8b46465-a47e-4c71-a142-889a81155b78
DTSTART;VALUE=DATE:20140713
DTEND;VALUE=DATE:20140713
DESCRIPTION:Jacksonville BMX
LOCATION:1946 Ray Greene Drive  Jacksonville FL 32218 USA
SUMMARY:Gold Cup Qualifier Triple
URL:/site/bmx_races/69341
END:VEVENT
END:VCALENDAR
