BEGIN:VCALENDAR
VERSION:2.0
PRODID:icalendar-ruby
CALSCALE:GREGORIAN
METHOD:PUBLISH
BEGIN:VEVENT
DTSTAMP:20260424T215400Z
UID:4c346b19-b649-4d95-aaa2-1b7d075a9460
DTSTART;VALUE=DATE:20140426
DTEND;VALUE=DATE:20140426
DESCRIPTION:ORL BMX
LOCATION:4801 W Colonial Dr  Orlando FL 32808 USA
SUMMARY:Local Race Single
URL:/site/bmx_races/69159
END:VEVENT
END:VCALENDAR
