BEGIN:VCALENDAR
VERSION:2.0
PRODID:icalendar-ruby
CALSCALE:GREGORIAN
METHOD:PUBLISH
BEGIN:VEVENT
DTSTAMP:20260425T113047Z
UID:f83b5c5c-7e4d-4883-8a9b-9bd3dc248fe9
DTSTART;VALUE=DATE:20140614
DTEND;VALUE=DATE:20140614
DESCRIPTION:The Hill BMX
LOCATION:709 Sports Way  Elgin IL 60123 USA
SUMMARY:State Race Double
URL:/site/bmx_races/69100
END:VEVENT
END:VCALENDAR
