BEGIN:VCALENDAR
VERSION:2.0
PRODID:icalendar-ruby
CALSCALE:GREGORIAN
METHOD:PUBLISH
BEGIN:VEVENT
DTSTAMP:20260425T035236Z
UID:d80883f6-bc74-414c-9f39-c89f4dc81fe4
DTSTART;VALUE=DATE:20140622
DTEND;VALUE=DATE:20140622
DESCRIPTION:Bonzai BMX
LOCATION:7201 Arlene Laman Dr  N. Little Rock AR 72118 USA
SUMMARY:Olympic Day Single
URL:/site/bmx_races/68958
END:VEVENT
END:VCALENDAR
