BEGIN:VCALENDAR
VERSION:2.0
PRODID:icalendar-ruby
CALSCALE:GREGORIAN
METHOD:PUBLISH
BEGIN:VEVENT
DTSTAMP:20260425T015840Z
UID:49e6ce1d-9ea3-4f27-b55a-23da29a33975
DTSTART;VALUE=DATE:20140719
DTEND;VALUE=DATE:20140719
DESCRIPTION:Nepean BMX
LOCATION:93 Houlahan St  Ottawa ON K2J3Y7 CAN
SUMMARY:Race for Life Double
URL:/site/bmx_races/68864
END:VEVENT
END:VCALENDAR
