BEGIN:VCALENDAR
VERSION:2.0
PRODID:icalendar-ruby
CALSCALE:GREGORIAN
METHOD:PUBLISH
BEGIN:VEVENT
DTSTAMP:20260425T015346Z
UID:bfbb3dc6-71fe-44b6-af4a-092d62ef1774
DTSTART;VALUE=DATE:20140524
DTEND;VALUE=DATE:20140524
DESCRIPTION:First State BMX
LOCATION:1045 N Walnut St  Milford DE 19963 USA
SUMMARY:Local Race Single
URL:/site/bmx_races/68775
END:VEVENT
END:VCALENDAR
