BEGIN:VCALENDAR
VERSION:2.0
PRODID:icalendar-ruby
CALSCALE:GREGORIAN
METHOD:PUBLISH
BEGIN:VEVENT
DTSTAMP:20260426T015142Z
UID:c9701cfb-3bad-4a94-8191-9eebb73f6969
DTSTART;VALUE=DATE:20140816
DTEND;VALUE=DATE:20140816
DESCRIPTION:Fort Wayne BMX
LOCATION:3411 Sherman Blvd  Fort Wayne IN 46808 USA
SUMMARY:State Race Double
URL:/site/bmx_races/68704
END:VEVENT
END:VCALENDAR
