BEGIN:VCALENDAR
VERSION:2.0
PRODID:icalendar-ruby
CALSCALE:GREGORIAN
METHOD:PUBLISH
BEGIN:VEVENT
DTSTAMP:20260425T021658Z
UID:a725f20f-7b20-4325-b756-9cb5506a23b3
DTSTART;VALUE=DATE:20140719
DTEND;VALUE=DATE:20140719
DESCRIPTION:Imagination Glen BMX
LOCATION:2190 N State Rd 149  Portage IN 46304 USA
SUMMARY:Local Race Single
URL:/site/bmx_races/66815
END:VEVENT
END:VCALENDAR
