BEGIN:VCALENDAR
VERSION:2.0
PRODID:icalendar-ruby
CALSCALE:GREGORIAN
METHOD:PUBLISH
BEGIN:VEVENT
DTSTAMP:20260424T082047Z
UID:8670147f-22ac-47b1-8c14-68b23dd1ef28
DTSTART;VALUE=DATE:20140322
DTEND;VALUE=DATE:20140322
DESCRIPTION:Nellis BMX
LOCATION:4949 E Cheyenne Ave  Las Vegas NV 89115 USA
SUMMARY:Gold Cup Qualifier Triple
URL:/site/bmx_races/66685
END:VEVENT
END:VCALENDAR
