BEGIN:VCALENDAR
VERSION:2.0
PRODID:icalendar-ruby
CALSCALE:GREGORIAN
METHOD:PUBLISH
BEGIN:VEVENT
DTSTAMP:20260425T035230Z
UID:1d298885-12d4-4b31-8353-b40d002a5c9d
DTSTART;VALUE=DATE:20140712
DTEND;VALUE=DATE:20140712
DESCRIPTION:Foothills BMX
LOCATION:620 Alvord Park Rd  Torrington CT 06790 USA
SUMMARY:Gold Cup Qualifier Triple
URL:/site/bmx_races/66614
END:VEVENT
END:VCALENDAR
