BEGIN:VCALENDAR
VERSION:2.0
PRODID:icalendar-ruby
CALSCALE:GREGORIAN
METHOD:PUBLISH
BEGIN:VEVENT
DTSTAMP:20260425T152631Z
UID:f5632903-eb85-4778-828c-1bc8c995a17b
DTSTART;VALUE=DATE:20140809
DTEND;VALUE=DATE:20140809
DESCRIPTION:Bellflower BMX
LOCATION:9030 Somerset Blvd  Bellflower CA 90706 USA
SUMMARY:Warnicke Double
URL:/site/bmx_races/66611
END:VEVENT
END:VCALENDAR
