BEGIN:VCALENDAR
VERSION:2.0
PRODID:icalendar-ruby
CALSCALE:GREGORIAN
METHOD:PUBLISH
BEGIN:VEVENT
DTSTAMP:20260425T152539Z
UID:0808d8d2-127a-4a23-9bd2-51f53ee6d865
DTSTART;VALUE=DATE:20141030
DTEND;VALUE=DATE:20141030
DESCRIPTION:Bellflower BMX
LOCATION:9030 Somerset Blvd  Bellflower CA 90706 USA
SUMMARY:Local Race Single
URL:/site/bmx_races/66057
END:VEVENT
END:VCALENDAR
