BEGIN:VCALENDAR
VERSION:2.0
PRODID:icalendar-ruby
CALSCALE:GREGORIAN
METHOD:PUBLISH
BEGIN:VEVENT
DTSTAMP:20260425T035239Z
UID:287a0387-3381-47a2-bb41-25596e818557
DTSTART;VALUE=DATE:20140215
DTEND;VALUE=DATE:20140215
DESCRIPTION:Bellflower BMX
LOCATION:9030 Somerset Blvd  Bellflower CA 90706 USA
SUMMARY:Local Race Single
URL:/site/bmx_races/65947
END:VEVENT
END:VCALENDAR
