BEGIN:VCALENDAR
VERSION:2.0
PRODID:icalendar-ruby
CALSCALE:GREGORIAN
METHOD:PUBLISH
BEGIN:VEVENT
DTSTAMP:20260424T202331Z
UID:1784495d-bfb0-4d7d-b746-a5e0f24be03b
DTSTART;VALUE=DATE:20140330
DTEND;VALUE=DATE:20140330
DESCRIPTION:Cowtown BMX
LOCATION:447 Haltom Rd  Ft. Worth TX 76117 USA
SUMMARY:Local Race Single
URL:/site/bmx_races/65257
END:VEVENT
END:VCALENDAR
