BEGIN:VCALENDAR
VERSION:2.0
PRODID:icalendar-ruby
CALSCALE:GREGORIAN
METHOD:PUBLISH
BEGIN:VEVENT
DTSTAMP:20260424T115558Z
UID:81fdffa9-f07f-4a38-8d92-8aad76ec86b2
DTSTART;VALUE=DATE:20140629
DTEND;VALUE=DATE:20140629
DESCRIPTION:Westerville BMX
LOCATION:535 Park Meadow Road  Westerville OH 43081 USA
SUMMARY:Local Race Single
URL:/site/bmx_races/65166
END:VEVENT
END:VCALENDAR
