BEGIN:VCALENDAR
VERSION:2.0
PRODID:icalendar-ruby
CALSCALE:GREGORIAN
METHOD:PUBLISH
BEGIN:VEVENT
DTSTAMP:20260424T202337Z
UID:98ca3993-f169-4c90-930a-bc7176001d75
DTSTART;VALUE=DATE:20140927
DTEND;VALUE=DATE:20140927
DESCRIPTION:Columbia Basin BMX
LOCATION:2002 Snyder St  Richland WA 99354 USA
SUMMARY:Local Race Single
URL:/site/bmx_races/64656
END:VEVENT
END:VCALENDAR
