BEGIN:VCALENDAR
VERSION:2.0
PRODID:icalendar-ruby
CALSCALE:GREGORIAN
METHOD:PUBLISH
BEGIN:VEVENT
DTSTAMP:20260424T164807Z
UID:0b29f19b-00eb-4228-a5fe-2f424d4e963d
DTSTART;VALUE=DATE:20140312
DTEND;VALUE=DATE:20140312
DESCRIPTION:Oak Creek BMX
LOCATION:648 Riverside Ave  Roseville CA 95678 USA
SUMMARY:Local Race Single
URL:/site/bmx_races/64285
END:VEVENT
END:VCALENDAR
