BEGIN:VCALENDAR
VERSION:2.0
PRODID:icalendar-ruby
CALSCALE:GREGORIAN
METHOD:PUBLISH
BEGIN:VEVENT
DTSTAMP:20260424T152337Z
UID:7065c579-0aed-4474-b1c6-ade33c31ce29
DTSTART;VALUE=DATE:20140501
DTEND;VALUE=DATE:20140501
DESCRIPTION:Razor City BMX
LOCATION:200 Pumphouse Ln  Gillette WY 82716 USA
SUMMARY:Local Race Single
URL:/site/bmx_races/63357
END:VEVENT
END:VCALENDAR
