BEGIN:VCALENDAR
VERSION:2.0
PRODID:icalendar-ruby
CALSCALE:GREGORIAN
METHOD:PUBLISH
BEGIN:VEVENT
DTSTAMP:20260424T084352Z
UID:bfb0c871-83db-41e3-a01e-9654dde98c98
DTSTART;VALUE=DATE:20130927
DTEND;VALUE=DATE:20130927
DESCRIPTION:Marquette BMX
LOCATION:910 Hawley Street  Marquette MI 49855 USA
SUMMARY:Local Race Single
URL:/site/bmx_races/61897
END:VEVENT
END:VCALENDAR
