BEGIN:VCALENDAR
VERSION:2.0
PRODID:icalendar-ruby
CALSCALE:GREGORIAN
METHOD:PUBLISH
BEGIN:VEVENT
DTSTAMP:20260425T215426Z
UID:9a4778bf-1b1f-4da9-a796-13263a5abecf
DTSTART;VALUE=DATE:20130811
DTEND;VALUE=DATE:20130811
DESCRIPTION:Music City BMX Association
LOCATION:2901 Bell Road  Nashville TN 37217 USA
SUMMARY:Race for Life Double
URL:/site/bmx_races/61344
END:VEVENT
END:VCALENDAR
