BEGIN:VCALENDAR
VERSION:2.0
PRODID:icalendar-ruby
CALSCALE:GREGORIAN
METHOD:PUBLISH
BEGIN:VEVENT
DTSTAMP:20260424T215344Z
UID:bbe3253a-b304-4ab6-b62b-a7df7ca6e945
DTSTART;VALUE=DATE:20130929
DTEND;VALUE=DATE:20130929
DESCRIPTION:Music City BMX Association
LOCATION:2901 Bell Road  Nashville TN 37217 USA
SUMMARY:State Final Triple
URL:/site/bmx_races/61020
END:VEVENT
END:VCALENDAR
