BEGIN:VCALENDAR
VERSION:2.0
PRODID:icalendar-ruby
CALSCALE:GREGORIAN
METHOD:PUBLISH
BEGIN:VEVENT
DTSTAMP:20260424T175217Z
UID:60f99823-1378-4e95-9b7b-b35d391db2c3
DTSTART;VALUE=DATE:20131006
DTEND;VALUE=DATE:20131006
DESCRIPTION:Berthoud BMX
LOCATION: Kevin Jones Berthoud CO 80513 USA
SUMMARY:Local Race Single
URL:/site/bmx_races/60770
END:VEVENT
END:VCALENDAR
