BEGIN:VCALENDAR
VERSION:2.0
PRODID:icalendar-ruby
CALSCALE:GREGORIAN
METHOD:PUBLISH
BEGIN:VEVENT
DTSTAMP:20260424T163951Z
UID:2766455e-6a47-45cd-bf06-4669c4f1ff6c
DTSTART;VALUE=DATE:20130531
DTEND;VALUE=DATE:20130531
DESCRIPTION:Berthoud BMX
LOCATION: Kevin Jones Berthoud CO 80513 USA
SUMMARY:Local Race Single
URL:/site/bmx_races/60730
END:VEVENT
END:VCALENDAR
