BEGIN:VCALENDAR
VERSION:2.0
PRODID:icalendar-ruby
CALSCALE:GREGORIAN
METHOD:PUBLISH
BEGIN:VEVENT
DTSTAMP:20260424T224442Z
UID:06f9f78a-7768-429e-b6de-eba87257e979
DTSTART;VALUE=DATE:20130629
DTEND;VALUE=DATE:20130629
DESCRIPTION:Southwest Wyoming Outdoor BMX
LOCATION:1795 Bridger Rd   Green River WY 82935 USA
SUMMARY:Race for Life Double
URL:/site/bmx_races/60317
END:VEVENT
END:VCALENDAR
