BEGIN:VCALENDAR
VERSION:2.0
PRODID:icalendar-ruby
CALSCALE:GREGORIAN
METHOD:PUBLISH
BEGIN:VEVENT
DTSTAMP:20260425T015451Z
UID:12b4bfa5-d403-4eb0-80c9-3876704d1610
DTSTART;VALUE=DATE:20130713
DTEND;VALUE=DATE:20130713
DESCRIPTION:Omaha BMX
LOCATION:11111 W Maple Rd  Omaha NE 68164 USA
SUMMARY:Warnicke Double
URL:/site/bmx_races/60276
END:VEVENT
END:VCALENDAR
