BEGIN:VCALENDAR
VERSION:2.0
PRODID:icalendar-ruby
CALSCALE:GREGORIAN
METHOD:PUBLISH
BEGIN:VEVENT
DTSTAMP:20260424T141625Z
UID:5a700ad7-0184-4fbd-8751-79b4eae77bde
DTSTART;VALUE=DATE:20130512
DTEND;VALUE=DATE:20130512
DESCRIPTION:Catamount BMX
LOCATION:Willow Park  472 East Rd Bennington VT 05201 USA
SUMMARY:Local Race Single
URL:/site/bmx_races/60019
END:VEVENT
END:VCALENDAR
