BEGIN:VCALENDAR
VERSION:2.0
PRODID:icalendar-ruby
CALSCALE:GREGORIAN
METHOD:PUBLISH
BEGIN:VEVENT
DTSTAMP:20260425T124606Z
UID:dd978f51-c476-476c-87f7-74743d4d7aef
DTSTART;VALUE=DATE:20260423
DTEND;VALUE=DATE:20260423
DESCRIPTION:North Shore BMX
LOCATION:1301 Lillooet Road  North Vancouver BC V7J 3T7 CAN
SUMMARY:Local Race Single
URL:/site/bmx_races/596023
END:VEVENT
END:VCALENDAR
