BEGIN:VCALENDAR
VERSION:2.0
PRODID:icalendar-ruby
CALSCALE:GREGORIAN
METHOD:PUBLISH
BEGIN:VEVENT
DTSTAMP:20260425T182527Z
UID:5cc3352e-9902-4517-b1a0-133576a08789
DTSTART;VALUE=DATE:20260411
DTEND;VALUE=DATE:20260411
DESCRIPTION:Wild Chile BMX
LOCATION:1600 East Hadley Ave  Las Cruces NM 88001 USA
SUMMARY:Local Race Single
URL:/site/bmx_races/595977
END:VEVENT
END:VCALENDAR
