BEGIN:VCALENDAR
VERSION:2.0
PRODID:icalendar-ruby
CALSCALE:GREGORIAN
METHOD:PUBLISH
BEGIN:VEVENT
DTSTAMP:20260424T060821Z
UID:837cc949-45db-40a7-8d37-54cd6385485e
DTSTART;VALUE=DATE:20260416
DTEND;VALUE=DATE:20260416
DESCRIPTION:High Springs BMX
LOCATION:  High Springs FL 32028 USA
SUMMARY:Local Race Single
URL:/site/bmx_races/595973
END:VEVENT
END:VCALENDAR
