BEGIN:VCALENDAR
VERSION:2.0
PRODID:icalendar-ruby
CALSCALE:GREGORIAN
METHOD:PUBLISH
BEGIN:VEVENT
DTSTAMP:20260424T060819Z
UID:ab950a71-ce6b-4ca6-b521-29e727e79174
DTSTART;VALUE=DATE:20260421
DTEND;VALUE=DATE:20260421
DESCRIPTION:Okeeheelee BMX
LOCATION:8145 Forest Hill Blvd  West Palm Beach FL 33413 USA
SUMMARY:Local Race Single
URL:/site/bmx_races/595972
END:VEVENT
END:VCALENDAR
