BEGIN:VCALENDAR
VERSION:2.0
PRODID:icalendar-ruby
CALSCALE:GREGORIAN
METHOD:PUBLISH
BEGIN:VEVENT
DTSTAMP:20260424T064329Z
UID:2e599bbf-948f-4d3e-8738-ebe1dd7634c1
DTSTART;VALUE=DATE:20260420
DTEND;VALUE=DATE:20260420
DESCRIPTION:Charlotte BMX
LOCATION:2505 Carmalita St  Punta Gorda FL 33950 USA
SUMMARY:Local Race Single
URL:/site/bmx_races/595950
END:VEVENT
END:VCALENDAR
