BEGIN:VCALENDAR
VERSION:2.0
PRODID:icalendar-ruby
CALSCALE:GREGORIAN
METHOD:PUBLISH
BEGIN:VEVENT
DTSTAMP:20260424T071609Z
UID:75df718a-5668-423a-a6a4-ebcb827c8e58
DTSTART;VALUE=DATE:20260419
DTEND;VALUE=DATE:20260419
DESCRIPTION:Capital City BMX
LOCATION:516 Dennis Ave  Raleigh NC 27604 USA
SUMMARY:Local Race Single
URL:/site/bmx_races/595941
END:VEVENT
END:VCALENDAR
