BEGIN:VCALENDAR
VERSION:2.0
PRODID:icalendar-ruby
CALSCALE:GREGORIAN
METHOD:PUBLISH
BEGIN:VEVENT
DTSTAMP:20260424T060819Z
UID:c1d7f8c3-8c4d-4af4-8aaa-a8ed83ce38c0
DTSTART;VALUE=DATE:20260418
DTEND;VALUE=DATE:20260418
DESCRIPTION:Blanchard Woods BMX
LOCATION:4600 Blanchard Woods Drive  Evans GA 30809 USA
SUMMARY:Race for Life Double
URL:/site/bmx_races/595920
END:VEVENT
END:VCALENDAR
