BEGIN:VCALENDAR
VERSION:2.0
PRODID:icalendar-ruby
CALSCALE:GREGORIAN
METHOD:PUBLISH
BEGIN:VEVENT
DTSTAMP:20260424T073918Z
UID:0e84a879-e8a9-4f82-8946-fdd20ebafba3
DTSTART;VALUE=DATE:20260417
DTEND;VALUE=DATE:20260417
DESCRIPTION:Burdette Park BMX
LOCATION:5821 Nurrenbern Rd  Evansville IN 47712 USA
SUMMARY:Local Race Single
URL:/site/bmx_races/595918
END:VEVENT
END:VCALENDAR
